BEGIN:VCALENDAR
VERSION:2.0
PRODID:-//hacksw/handcal//NONSGML v1.0//EN
BEGIN:VEVENT
SUMMARY:Regneville Cerences
UID:3494b91f-2454-48b3-9300-6c674ac07791
DTSTART:20260412T063000Z
DTEND:20260412T110000Z
LOCATION:Depart Passous 2 place du Marechal Leclerc 50230 agon coutainville
CATEGORIES:Sportif
STATUS:
DESCRIPTION:<p> </p>
 
 <p> </p>
 
 <p><iframe height="500"
 loading="lazy"
 src="https://www.openrunner.com/embed/4d7a446a464e70376b314a596b6f62736d7a32416d70657042374b6d4d746f56776c59796763564e482b673d3a3a690b76ed892c049b7deb7a81c628e434?unit=metric"
 style="border: none;" width="100%"></iframe></p>
 
 <p> </p>
 
 <p><a
 href="https://www.openrunner.com/route-details/18603275">Le circuit
 Openrunner</a></p>
 
 <p> </p>
 
 <p><span style="font-size:12px;"><span
 new="" roman="" times=""><span comic="" ms="" sans="">-1/LE
 PASSOUS</span></span></span></p>
 
 <p><span
 style="font-size:12px;"><span new="" roman="" times=""><span comic=""
 ms="" sans="">2/Pont de la roque</span></span></span></p>
 
 <p><span
 style="font-size:12px;"><span new="" roman="" times=""><span comic=""
 ms="" sans="">3/Regneville</span></span></span></p>
 
 <p><span
 style="font-size:12px;"><span new="" roman="" times=""><span comic=""
 ms="" sans="">4/Hauteville</span></span></span></p>
 
 <p><span
 style="font-size:12px;"><span new="" roman="" times=""><span comic=""
 ms="" sans="">5/Linverville</span></span></span></p>
 
 <p><span
 style="font-size:12px;"><span new="" roman="" times=""><span comic=""
 ms="" sans="">6/Muneville</span></span></span></p>
 
 <p><span
 style="font-size:12px;"><span new="" roman="" times=""><span comic=""
 ms="" sans="">7/Cerences</span></span></span></p>
 
 <p><span
 style="font-size:12px;"><span new="" roman="" times=""><span comic=""
 ms="" sans="">8/Grismesnil</span></span></span></p>
 
 <p><span
 style="font-size:12px;"><span new="" roman="" times=""><span comic=""
 ms="" sans="">9/Saint Denis le
 vetu</span></span></span></p>
 
 <p><span style="font-size:12px;"><span
 new="" roman="" times=""><span comic="" ms=""
 sans="">10/Hyenville</span></span></span></p>
 
 <p><span
 style="font-size:12px;"><span new="" roman="" times=""><span comic=""
 ms="" sans="">11/Montchaton </span></span></span></p>
 
 <p><span
 style="font-size:12px;"><span new="" roman="" times=""><span comic=""
 ms="" sans="">12/RETOUR</span></span></span></p>
 
 <p align="center"
 style="text-align:center"><span style="font-size:12pt"><span new=""
 roman="" style="font-family:" times=""><b><span
 style="font-size:14.0pt"><span style="background:yellow"><span
 comic="" ms="" sans="" style="font-family:">VARIANTE OR
 14473759</span></span></span></b></span></span></p>
 
 <p
 align="center" style="text-align:center"><span
 style="font-size:12pt"><span new="" roman="" style="font-family:"
 times=""><b><span style="font-size:14.0pt"><span
 style="background:yellow"><span comic="" ms="" sans=""
 style="font-family:">60 KMS -450
 D+3</span></span></span></b></span></span></p>
 
 <p align="center"
 style="text-align:center"> </p>
 
 <p><span
 style="font-size:12pt"><span new="" roman="" style="font-family:"
 times=""><b><span style="font-size:14.0pt"><span comic="" ms=""
 sans="" style="font-family:">A Cerences retour direct sur
 Hyenville.</span></span></b></span></span></p>
 
 <p><a
 href="https://www.openrunner.com/route-details/14473759">La variante
 Openrunner</a></p>
 
 <p><a
 href="https://connect.garmin.com/modern/course/151526357">La variante
 GPS</a></p>
URL;VALUE=URI:https://ccac.sportsregions.fr/evenements/2026/04/12/regneville-cerences-1796305
END:VEVENT
END:VCALENDAR
