BEGIN:VCALENDAR
VERSION:2.0
PRODID:-//hacksw/handcal//NONSGML v1.0//EN
BEGIN:VEVENT
SUMMARY:Montmartin carrefour du dimanche
UID:bfe0d85f-f1ef-45cc-9cff-1144fb5b83dd
DTSTART:20260426T063000Z
DTEND:20260426T103000Z
LOCATION:Depart Passous 2 place du Marechal Leclerc 50230 agon coutainville
CATEGORIES:Sportif
STATUS:
DESCRIPTION:<p><iframe frameborder="0" height="500" scrolling="no"
 src="https://www.openrunner.com/embed/31704e68736273364445414168473051617273524f7a757579436d3863574b42725677593943556666434d3d3a3a00ade7fa24c562af5e52aa11cdf50b3f?unit=metric"
 width="100%"></iframe></p>
 
 <p><a
 href="https://connect.garmin.com/modern/course/97594852">Le parcours
 GPS</a></p>
 
 <p> </p>
 
 <p align="center"
 style="text-align:center"><span style="font-size:12pt"><span new=""
 roman="" style="font-family:" times=""><b><u><span
 style="font-size:14.0pt"><span style="background:lime"><span comic=""
 ms="" sans="" style="font-family:">70 KMS
 D+550M</span></span></span></u></b></span></span></p>
 
 <p><span
 style="font-size:12px;"><span new="" roman="" times=""><b><span
 comic="" ms="" sans="">-1/LE
 PASSOUS</span></b></span></span></p>
 
 <p><span
 style="font-size:12px;"><span new="" roman="" times=""><b><span
 comic="" ms="" sans="">-2/Pont de la
 roque</span></b></span></span></p>
 
 <p><span
 style="font-size:12px;"><span new="" roman="" times=""><b><span
 comic="" ms="" sans="">-3/<span style="color:red">GAUCHE
 </span>Montmartin</span></b></span></span></p>
 
 <p><span
 style="font-size:12px;"><span new="" roman="" times=""><b><span
 comic="" ms="" sans="">-4/Hauteville sur
 mer</span></b></span></span></p>
 
 <p><span
 style="font-size:12px;"><span new="" roman="" times=""><b><span
 comic="" ms="" sans="">-5/Les
 Salines</span></b></span></span></p>
 
 <p><span
 style="font-size:12px;"><span new="" roman="" times=""><b><span
 comic="" ms=""
 sans="">-6/Bricqueville/mer</span></b></span></span></p>
 
 <p><span
 style="font-size:12px;"><span new="" roman="" times=""><b><span
 comic="" ms=""
 sans="">-7/Cerences</span></b></span></span></p>
 
 <p><span
 style="font-size:12px;"><span new="" roman="" times=""><b><span
 comic="" ms=""
 sans="">-8/Trelly</span></b></span></span></p>
 
 <p><span
 style="font-size:12px;"><span new="" roman="" times=""><b><span
 comic="" ms=""
 sans="">-9/Quettreville</span></b></span></span></p>
 
 <p><span
 style="font-size:12px;"><span new="" roman="" times=""><b><span
 comic="" ms=""
 sans="">-10/Monmartin</span></b></span></span></p>
 
 <p><span
 style="font-size:12px;"><span new="" roman="" times=""><b><span
 comic="" ms=""
 sans="">-11/Regneville</span></b></span></span></p>
 
 <p><span
 style="font-size:12px;"><span new="" roman="" times=""><b><span
 comic="" ms=""
 sans="">-12/Leprey</span></b></span></span></p>
 
 <p><span
 style="font-size:12px;"><span new="" roman="" times=""><b><span
 comic="" ms="" sans="">-13/Pont de la roque
 </span></b></span></span></p>
 
 <p><span style="font-size:12px;"><span
 new="" roman="" times=""><b><span comic="" ms=""
 sans="">RETOUR</span></b></span></span></p>
 
 <p style="text-align:
 center;">VARIANTE Openrunner 1447426660 KMS-D+450M</p>
 
 <p><a
 href="https://www.openrunner.com/route-details/14474266">La variante
 Openrunner</a></p>
 
 <p><a
 href="https://connect.garmin.com/modern/course/151521829">La variante
 GPS</a></p>
 
 <p> </p>
 
 <p> </p>
URL;VALUE=URI:https://ccac.sportsregions.fr/evenements/2026/04/26/montmartin-carrefour-du-dimanche-1796322
END:VEVENT
END:VCALENDAR
