BEGIN:VCALENDAR
VERSION:2.0
PRODID:-//hacksw/handcal//NONSGML v1.0//EN
BEGIN:VEVENT
SUMMARY:Plein Nord 
UID:a1fe0d52-2135-4d26-abfc-05782a5fa314
DTSTART:20260501T063000Z
DTEND:20260501T220000Z
LOCATION:Depart Passous 2 place du Marechal Leclerc 50230 agon coutainville
CATEGORIES:Sportif
STATUS:
DESCRIPTION:<p><a href="https://www.openrunner.com/r/14467065">Le
 circuit openrunner</a></p>
 
 <p><a
 href="https://connect.garmin.com/modern/course/97352179">Le circuit
 Garmin</a></p>
 
 <p>70 KMS- D+300M<br role="presentation" />
 -1/LE
 PASSOUS.</p>
 
 <p>2/La
 Valliere</p>
 
 <p>3/Gratot</p>
 
 <p>4/Brainville-</p>
 
 <p>5/La
 Vendelee</p>
 
 <p>6/La Feuillie</p>
 
 <p>7/Millieres</p>
 
 <p>8/DIR
 Vesly puis Gauche Lessay</p>
 
 <p>9/Creances</p>
 
 <p>10/RETOUR</p>
 
URL;VALUE=URI:https://ccac.sportsregions.fr/evenements/2026/05/01/plein-nord-1823986
END:VEVENT
END:VCALENDAR
